Workbook
Name _1総人口_五歳階級別: #REF!
Name 町世帯数: #REF!

Sheet 申請書兼請求書
B1: 第３号様式（第６条関係）
S2: 令和 | V2: 年 | X2: 月 | Z2: 日
E3: 補 助 金 交 付 申 請 書 兼 請 求 書 （重 量・回数 補 助）
C4: 日 進 市 長 宛て
K5: 登録番号・団体名 | S5: ・
K6: 住所
K7: 代表者氏名
K8: 電話番号
C10: 私は、日進市資源ごみ回収推進に関する補助金交付要綱第３条の規定に基づく要件を
B11: 満たしているので、同要綱第６条の規定に基づき申請します。
M13: 記
C14: 1 | E14: 申請及び請求内容
E15: ※ 添付書類 回収業者が発行した資源回収量の分かるものの写し
E16: その他市長が必要と認める書類
E17: (1) 重量補助 回収実績
E18: 資源の種類・収集量(kg) | M18: 補助単価 | Q18: 補助額
E19: 新聞紙 | G19: ='資源補助金 計算シート '!R27 -> 0 | I19: 雑誌 | K19: ='資源補助金 計算シート '!R30 -> 0 | M19: × | N19: 6 | P19: 円 | Q19: ＝ | R19: =SUM(G19:H20,K19:L20)*N19 -> 0 | V19: 円
E20: 古布 | G20: ='資源補助金 計算シート '!R28 -> 0 | I20: 段ボール | K20: ='資源補助金 計算シート '!R29 -> 0
E21: 紙パック | I21: ='資源補助金 計算シート '!R31 -> 0 | M21: × | N21: 10 | P21: 円 | Q21: ＝ | R21: =I21*N21 -> 0 | V21: 円
E23: (2) 回数補助 回収実施回数 | M23: （計 | N23: =SUM(F24,I24,L24,O24,R24,U24,F25,I25,L25,O25,R25,U25) -> 0 | O23: 回）
E24: 4月 | G24: 回 | H24: 5月 | J24: 回 | K24: 6月 | M24: 回 | N24: 7月 | P24: 回 | Q24: 8月 | S24: 回 | T24: 9月 | V24: 回
E25: 10月 | G25: 回 | H25: 11月 | J25: 回 | K25: 12月 | M25: 回 | N25: 1月 | P25: 回 | Q25: 2月 | S25: 回 | T25: 3月 | V25: 回
F26: ⑴ | G26: 金 | H26: =R19+R21 -> 0 | L26: 円 | O26: ⑵ | P26: 金 | Q26: =IF(AND(N23>=12, F24,I24,L24,O24,R24,U24,U25,R25,O25,L25,I25,F25>0),18000,0) -> 0 | U26: 円
I27: 請求金額（(1)(2)合計） | N27: 金 | O27: =H26+Q26 -> 0 | S27: 円
C28: 2 | E28: 振込先
E29: ＊ 通帳の写しを添付してください。
E30: 金融機関名 | O30: 支店 | U30: 店
E31: 普通 | G31: 口座番号 | O31: フリガナ
O32: 口座名義
C33: 3 | E33: 補助金交付額決定通知書等の送付先
E34: ＊ 申請者（代表者）以外の送付先を希望する場合は、以下に記入してください。
E35: 住所 | G35: 〒
E36: 氏名 | O36: 電話番号

Sheet 資源補助金 計算シート 
Q21: 合計
B22: 仕切り書NO. | D22: 1 | E22: 2 | F22: 3 | G22: 4 | H22: 5 | I22: 6 | J22: 7 | K22: 8 | L22: 9 | M22: 10 | N22: 1-10計 | Q22: 紙パック以外の紙の合計 | R22: =O149-O145 -> 0 | S22: ＝ | T22: =R22*6 -> 0
B23: ① | C23: 合計 | N23: =SUM(D23:M23) -> 0 | Q23: 紙パックの合計 | R23: =O145 -> 0 | S23: ＝ | T23: =R23*10 -> 0
B24: ② | C24: 新聞紙・チラシ(6円） | N24: =SUM(D24:M24) -> 0 | Q24: 合計 | T24: =SUM(T22:T23) -> 0
C25: 古布(6円） | N25: =SUM(D25:M25) -> 0
C26: 段ボール(6円） | N26: =SUM(D26:M26) -> 0 | Q26: 資源内訳
C27: 雑誌(6円） | N27: =SUM(D27:M27) -> 0 | Q27: 新聞紙(6円） | R27: =O141 -> 0
C28: 紙パック(10円） | N28: =SUM(D28:M28) -> 0 | Q28: 古布(6円） | R28: =O142 -> 0
C29: ｱﾙﾐ/ｽﾁｰﾙ | N29: =SUM(D29:M29) -> 0 | O29: 補助対象外 | Q29: 段ボール(6円） | R29: =O143 -> 0
C30: その他 | N30: =SUM(D30:M30) -> 0 | O30: 補助対象外 | Q30: 雑誌(6円） | R30: =O144 -> 0
B31: 自動 計算 | C31: 内訳合計 | D31: =SUM(D24:D30) -> 0 | E31: =SUM(E24:E30) -> 0 | F31: =SUM(F24:F30) -> 0 | G31: =SUM(G24:G30) -> 0 | H31: =SUM(H24:H30) -> 0 | I31: =SUM(I24:I30) -> 0 | J31: =SUM(J24:J30) -> 0 | K31: =SUM(K24:K30) -> 0 | ... M31: =SUM(M24:M30) -> 0 | N31: =SUM(D31:M31) -> 0 | Q31: 紙パック(10円） | R31: =O145 -> 0
C32: 補助合計 | D32: =D23-D29-D30 -> 0 | E32: =E23-E29-E30 -> 0 | F32: =F23-F29-F30 -> 0 | G32: =G23-G29-G30 -> 0 | H32: =H23-H29-H30 -> 0 | I32: =I23-I29-I30 -> 0 | J32: =J23-J29-J30 -> 0 | K32: =K23-K29-K30 -> 0 | ... M32: =M23-M29-M30 -> 0 | N32: =SUM(D32:M32) -> 0 | Q32: ｱﾙﾐ/ｽﾁｰﾙ | R32: =O146 -> 0
C33: 検証 | D33: =IF(D31=D23,"OK","不一致") -> OK | E33: =IF(E31=E23,"OK","不一致") -> OK | F33: =IF(F31=F23,"OK","不一致") -> OK | G33: =IF(G31=G23,"OK","不一致") -> OK | H33: =IF(H31=H23,"OK","不一致") -> OK | I33: =IF(I31=I23,"OK","不一致") -> OK | J33: =IF(J31=J23,"OK","不一致") -> OK | K33: =IF(K31=K23,"OK","不一致") -> OK | ... M33: =IF(M31=M23,"OK","不一致") -> OK | Q33: その他 | R33: =O147 -> 0
Q34: 合計 | R34: =SUM(R27:R33) -> 0
B35: 仕切り書NO. | D35: 11 | E35: 12 | F35: 13 | G35: 14 | H35: 15 | I35: 16 | J35: 17 | K35: 18 | L35: 19 | M35: 20 | N35: 11-20計 | O35: 1-20計 | Q35: 検証 | R35: =IF(R34=O140,"OK","不一致") -> OK
B36: ① | C36: 合計 | N36: =SUM(D36:M36) -> 0 | O36: =N23+N36 -> 0
B37: ② | C37: 新聞紙・チラシ(6円） | N37: =SUM(D37:M37) -> 0 | O37: =N24+N37 -> 0
C38: 古布(6円） | N38: =SUM(D38:M38) -> 0 | O38: =N25+N38 -> 0
C39: 段ボール(6円） | N39: =SUM(D39:M39) -> 0 | O39: =N26+N39 -> 0
C40: 雑誌(6円） | N40: =SUM(D40:M40) -> 0 | O40: =N27+N40 -> 0
C41: 紙パック(10円） | N41: =SUM(D41:M41) -> 0 | O41: =N28+N41 -> 0
C42: ｱﾙﾐ/ｽﾁｰﾙ | N42: =SUM(D42:M42) -> 0 | O42: =N29+N42 -> 0 | P42: 補助対象外
C43: その他 | N43: =SUM(D43:M43) -> 0 | O43: =N30+N43 -> 0 | P43: 補助対象外
B44: 自動 計算 | C44: 内訳合計 | D44: =SUM(D37:D43) -> 0 | E44: =SUM(E37:E43) -> 0 | F44: =SUM(F37:F43) -> 0 | G44: =SUM(G37:G43) -> 0 | H44: =SUM(H37:H43) -> 0 | I44: =SUM(I37:I43) -> 0 | J44: =SUM(J37:J43) -> 0 | K44: =SUM(K37:K43) -> 0 | ... M44: =SUM(M37:M43) -> 0 | N44: =SUM(D44:M44) -> 0 | O44: =N31+N44 -> 0
C45: 補助合計 | D45: =D36-D42-D43 -> 0 | E45: =E36-E42-E43 -> 0 | F45: =F36-F42-F43 -> 0 | G45: =G36-G42-G43 -> 0 | H45: =H36-H42-H43 -> 0 | I45: =I36-I42-I43 -> 0 | J45: =J36-J42-J43 -> 0 | K45: =K36-K42-K43 -> 0 | ... M45: =M36-M42-M43 -> 0 | N45: =SUM(D45:M45) -> 0 | O45: =N32+N45 -> 0
C46: 検証 | D46: =IF(D44=D36,"OK","不一致") -> OK | E46: =IF(E44=E36,"OK","不一致") -> OK | F46: =IF(F44=F36,"OK","不一致") -> OK | G46: =IF(G44=G36,"OK","不一致") -> OK | H46: =IF(H44=H36,"OK","不一致") -> OK | I46: =IF(I44=I36,"OK","不一致") -> OK | J46: =IF(J44=J36,"OK","不一致") -> OK | K46: =IF(K44=K36,"OK","不一致") -> OK | ... M46: =IF(M44=M36,"OK","不一致") -> OK
B48: 仕切り書NO. | D48: 21 | E48: 22 | F48: 23 | G48: 24 | H48: 25 | I48: 26 | J48: 27 | K48: 28 | L48: 29 | M48: 30 | N48: 21-30計 | O48: 1-30計
B49: ① | C49: 合計 | N49: =SUM(D49:M49) -> 0 | O49: =O36+N49 -> 0
B50: ② | C50: 新聞紙・チラシ(6円） | N50: =SUM(D50:M50) -> 0 | O50: =O37+N50 -> 0
C51: 古布(6円） | N51: =SUM(D51:M51) -> 0 | O51: =O38+N51 -> 0
C52: 段ボール(6円） | N52: =SUM(D52:M52) -> 0 | O52: =O39+N52 -> 0
C53: 雑誌(6円） | N53: =SUM(D53:M53) -> 0 | O53: =O40+N53 -> 0
C54: 紙パック(10円） | N54: =SUM(D54:M54) -> 0 | O54: =O41+N54 -> 0
C55: ｱﾙﾐ/ｽﾁｰﾙ | N55: =SUM(D55:M55) -> 0 | O55: =O42+N55 -> 0 | P55: 補助対象外
C56: その他 | N56: =SUM(D56:M56) -> 0 | O56: =O43+N56 -> 0 | P56: 補助対象外
B57: 自動 計算 | C57: 内訳合計 | D57: =SUM(D50:D56) -> 0 | E57: =SUM(E50:E56) -> 0 | F57: =SUM(F50:F56) -> 0 | G57: =SUM(G50:G56) -> 0 | H57: =SUM(H50:H56) -> 0 | I57: =SUM(I50:I56) -> 0 | J57: =SUM(J50:J56) -> 0 | K57: =SUM(K50:K56) -> 0 | ... M57: =SUM(M50:M56) -> 0 | N57: =SUM(D57:M57) -> 0 | O57: =O44+N57 -> 0
C58: 補助合計 | D58: =D49-D55-D56 -> 0 | E58: =E49-E55-E56 -> 0 | F58: =F49-F55-F56 -> 0 | G58: =G49-G55-G56 -> 0 | H58: =H49-H55-H56 -> 0 | I58: =I49-I55-I56 -> 0 | J58: =J49-J55-J56 -> 0 | K58: =K49-K55-K56 -> 0 | ... M58: =M49-M55-M56 -> 0 | N58: =SUM(D58:M58) -> 0 | O58: =O45+N58 -> 0
C59: 検証 | D59: =IF(D57=D49,"OK","不一致") -> OK | E59: =IF(E57=E49,"OK","不一致") -> OK | F59: =IF(F57=F49,"OK","不一致") -> OK | G59: =IF(G57=G49,"OK","不一致") -> OK | H59: =IF(H57=H49,"OK","不一致") -> OK | I59: =IF(I57=I49,"OK","不一致") -> OK | J59: =IF(J57=J49,"OK","不一致") -> OK | K59: =IF(K57=K49,"OK","不一致") -> OK | ... M59: =IF(M57=M49,"OK","不一致") -> OK
B61: 仕切り書NO. | D61: 31 | E61: 32 | F61: 33 | G61: 34 | H61: 35 | I61: 36 | J61: 37 | K61: 38 | L61: 39 | M61: 40 | N61: 31-40計 | O61: 1-40計
B62: ① | C62: 合計 | N62: =SUM(D62:M62) -> 0 | O62: =O49+N62 -> 0
...
