Workbook
Name _1総人口_五歳階級別: #REF!
Name 町世帯数: #REF!

Sheet 申請書兼請求書
B1: 第３号様式（第６条関係）
S2: 令和 | V2: 年 | X2: 月 | Z2: 日
E3: 補 助 金 交 付 申 請 書 兼 請 求 書 （重 量・回数 補 助）
C4: 日 進 市 長 宛て
K5: 登録番号・団体名 | S5: ・
K6: 住所
K7: 代表者氏名
K8: 電話番号
C10: 私は、日進市資源ごみ回収推進に関する補助金交付要綱第３条の規定に基づく要件を
B11: 満たしているので、同要綱第６条の規定に基づき申請します。
M13: 記
C14: 1 | E14: 申請及び請求内容
E15: ※ 添付書類 回収業者が発行した資源回収量の分かるものの写し
E16: その他市長が必要と認める書類
E17: (1) 重量補助 回収実績
E18: 資源の種類・収集量(kg) | M18: 補助単価 | Q18: 補助額
E19: 新聞紙 | G19: ='資源補助金 計算シート '!R27 -> 0 | I19: 雑誌 | K19: ='資源補助金 計算シート '!R30 -> 0 | M19: × | N19: 6 | P19: 円 | Q19: ＝ | R19: =SUM(G19:H20,K19:L20)*N19 -> 0 | V19: 円
E20: 古布 | G20: ='資源補助金 計算シート '!R28 -> 0 | I20: 段ボール | K20: ='資源補助金 計算シート '!R29 -> 0
E21: 紙パック | I21: ='資源補助金 計算シート '!R31 -> 0 | M21: × | N21: 10 | P21: 円 | Q21: ＝ | R21: =I21*N21 -> 0 | V21: 円
E23: (2) 回数補助 回収実施回数 | M23: （計 | N23: =SUM(F24,I24,L24,O24,R24,U24,F25,I25,L25,O25,R25,U25) -> 0 | O23: 回）
E24: 4月 | G24: 回 | H24: 5月 | J24: 回 | K24: 6月 | M24: 回 | N24: 7月 | P24: 回 | Q24: 8月 | S24: 回 | T24: 9月 | V24: 回
E25: 10月 | G25: 回 | H25: 11月 | J25: 回 | K25: 12月 | M25: 回 | N25: 1月 | P25: 回 | Q25: 2月 | S25: 回 | T25: 3月 | V25: 回
F26: ⑴ | G26: 金 | H26: =R19+R21 -> 0 | L26: 円 | O26: ⑵ | P26: 金 | Q26: =IF(AND(N23>=12, F24,I24,L24,O24,R24,U24,U25,R25,O25,L25,I25,F25>0),18000,0) -> 0 | U26: 円
I27: 請求金額（(1)(2)合計） | N27: 金 | O27: =H26+Q26 -> 0 | S27: 円
C28: 2 | E28: 振込先
E29: ＊ 通帳の写しを添付してください。
E30: 金融機関名 | O30: 支店 | U30: 店
E31: 普通 | G31: 口座番号 | O31: フリガナ
O32: 口座名義
C33: 3 | E33: 補助金交付額決定通知書等の送付先
E34: ＊ 申請者（代表者）以外の送付先を希望する場合は、以下に記入してください。
E35: 住所 | G35: 〒
E36: 氏名 | O36: 電話番号

Sheet 資源補助金 計算シート 
Q21: 合計
B22: 仕切り書NO. | D22: 1 | E22: 2 | F22: 3 | G22: 4 | H22: 5 | I22: 6 | J22: 7 | K22: 8 | L22: 9 | M22: 10 | N22: 1-10計 | Q22: 紙パック以外の紙の合計 | R22: =O149-O145 -> 0 | S22: ＝ | T22: =R22*6 -> 0
B23: ① | C23: 合計 | N23: =SUM(D23:M23) -> 0 | Q23: 紙パックの合計 | R23: =O145 -> 0 | S23: ＝ | T23: =R23*10 -> 0
B24: ② | C24: 新聞紙・チラシ(6円） | N24: =SUM(D24:M24) -> 0 | Q24: 合計 | T24: =SUM(T22:T23) -> 0
C25: 古布(6円） | N25: =SUM(D25:M25) -> 0
C26: 段ボール(6円） | N26: =SUM(D26:M26) -> 0 | Q26: 資源内訳
C27: 雑誌(6円） | N27: =SUM(D27:M27) -> 0 | Q27: 新聞紙(6円） | R27: =O141 -> 0
C28: 紙パック(10円） | N28: =SUM(D28:M28) -> 0 | Q28: 古布(6円） | R28: =O142 -> 0
C29: ｱﾙﾐ/ｽﾁｰﾙ | N29: =SUM(D29:M29) -> 0 | O29: 補助対象外 | Q29: 段ボール(6円） | R29: =O143 -> 0
C30: その他 | N30: =SUM(D30:M30) -> 0 | O30: 補助対象外 | Q30: 雑誌(6円） | R30: =O144 -> 0
B31: 自動 計算 | C31: 内訳合計 | D31: =SUM(D24:D30) -> 0 | E31: =SUM(E24:E30) -> 0 | F31: =SUM(F24:F30) -> 0 | G31: =SUM(G24:G30) -> 0 | H31: =SUM(H24:H30) -> 0 | I31: =SUM(I24:I30) -> 0 | J31: =SUM(J24:J30) -> 0 | K31: =SUM(K24:K30) -> 0 | ... M31: =SUM(M24:M30) -> 0 | N31: =SUM(D31:M31) -> 0 | Q31: 紙パック(10円） | R31: =O145 -> 0
C32: 補助合計 | D32: =D23-D29-D30 -> 0 | E32: =E23-E29-E30 -> 0 | F32: =F23-F29-F30 -> 0 | G32: =G23-G29-G30 -> 0 | H32: =H23-H29-H30 -> 0 | I32: =I23-I29-I30 -> 0 | J32: =J23-J29-J30 -> 0 | K32: =K23-K29-K30 -> 0 | ... M32: =M23-M29-M30 -> 0 | N32: =SUM(D32:M32) -> 0 | Q32: ｱﾙﾐ/ｽﾁｰﾙ | R32: =O146 -> 0
C33: 検証 | D33: =IF(D31=D23,"OK","不一致") -> OK | E33: =IF(E31=E23,"OK","不一致") -> OK | F33: =IF(F31=F23,"OK","不一致") -> OK | G33: =IF(G31=G23,"OK","不一致") -> OK | H33: =IF(H31=H23,"OK","不一致") -> OK | I33: =IF(I31=I23,"OK","不一致") -> OK | J33: =IF(J31=J23,"OK","不一致") -> OK | K33: =IF(K31=K23,"OK","不一致") -> OK | ... M33: =IF(M31=M23,"OK","不一致") -> OK | Q33: その他 | R33: =O147 -> 0
Q34: 合計 | R34: =SUM(R27:R33) -> 0
B35: 仕切り書NO. | D35: 11 | E35: 12 | F35: 13 | G35: 14 | H35: 15 | I35: 16 | J35: 17 | K35: 18 | L35: 19 | M35: 20 | N35: 11-20計 | O35: 1-20計 | Q35: 検証 | R35: =IF(R34=O140,"OK","不一致") -> OK
B36: ① | C36: 合計 | N36: =SUM(D36:M36) -> 0 | O36: =N23+N36 -> 0
B37: ② | C37: 新聞紙・チラシ(6円） | N37: =SUM(D37:M37) -> 0 | O37: =N24+N37 -> 0
C38: 古布(6円） | N38: =SUM(D38:M38) -> 0 | O38: =N25+N38 -> 0
C39: 段ボール(6円） | N39: =SUM(D39:M39) -> 0 | O39: =N26+N39 -> 0
C40: 雑誌(6円） | N40: =SUM(D40:M40) -> 0 | O40: =N27+N40 -> 0
C41: 紙パック(10円） | N41: =SUM(D41:M41) -> 0 | O41: =N28+N41 -> 0
C42: ｱﾙﾐ/ｽﾁｰﾙ | N42: =SUM(D42:M42) -> 0 | O42: =N29+N42 -> 0 | P42: 補助対象外
C43: その他 | N43: =SUM(D43:M43) -> 0 | O43: =N30+N43 -> 0 | P43: 補助対象外
B44: 自動 計算 | C44: 内訳合計 | D44: =SUM(D37:D43) -> 0 | E44: =SUM(E37:E43) -> 0 | F44: =SUM(F37:F43) -> 0 | G44: =SUM(G37:G43) -> 0 | H44: =SUM(H37:H43) -> 0 | I44: =SUM(I37:I43) -> 0 | J44: =SUM(J37:J43) -> 0 | K44: =SUM(K37:K43) -> 0 | ... M44: =SUM(M37:M43) -> 0 | N44: =SUM(D44:M44) -> 0 | O44: =N31+N44 -> 0
C45: 補助合計 | D45: =D36-D42-D43 -> 0 | E45: =E36-E42-E43 -> 0 | F45: =F36-F42-F43 -> 0 | G45: =G36-G42-G43 -> 0 | H45: =H36-H42-H43 -> 0 | I45: =I36-I42-I43 -> 0 | J45: =J36-J42-J43 -> 0 | K45: =K36-K42-K43 -> 0 | ... M45: =M36-M42-M43 -> 0 | N45: =SUM(D45:M45) -> 0 | O45: =N32+N45 -> 0
C46: 検証 | D46: =IF(D44=D36,"OK","不一致") -> OK | E46: =IF(E44=E36,"OK","不一致") -> OK | F46: =IF(F44=F36,"OK","不一致") -> OK | G46: =IF(G44=G36,"OK","不一致") -> OK | H46: =IF(H44=H36,"OK","不一致") -> OK | I46: =IF(I44=I36,"OK","不一致") -> OK | J46: =IF(J44=J36,"OK","不一致") -> OK | K46: =IF(K44=K36,"OK","不一致") -> OK | ... M46: =IF(M44=M36,"OK","不一致") -> OK
B48: 仕切り書NO. | D48: 21 | E48: 22 | F48: 23 | G48: 24 | H48: 25 | I48: 26 | J48: 27 | K48: 28 | L48: 29 | M48: 30 | N48: 21-30計 | O48: 1-30計
B49: ① | C49: 合計 | N49: =SUM(D49:M49) -> 0 | O49: =O36+N49 -> 0
B50: ② | C50: 新聞紙・チラシ(6円） | N50: =SUM(D50:M50) -> 0 | O50: =O37+N50 -> 0
C51: 古布(6円） | N51: =SUM(D51:M51) -> 0 | O51: =O38+N51 -> 0
C52: 段ボール(6円） | N52: =SUM(D52:M52) -> 0 | O52: =O39+N52 -> 0
C53: 雑誌(6円） | N53: =SUM(D53:M53) -> 0 | O53: =O40+N53 -> 0
C54: 紙パック(10円） | N54: =SUM(D54:M54) -> 0 | O54: =O41+N54 -> 0
C55: ｱﾙﾐ/ｽﾁｰﾙ | N55: =SUM(D55:M55) -> 0 | O55: =O42+N55 -> 0 | P55: 補助対象外
C56: その他 | N56: =SUM(D56:M56) -> 0 | O56: =O43+N56 -> 0 | P56: 補助対象外
B57: 自動 計算 | C57: 内訳合計 | D57: =SUM(D50:D56) -> 0 | E57: =SUM(E50:E56) -> 0 | F57: =SUM(F50:F56) -> 0 | G57: =SUM(G50:G56) -> 0 | H57: =SUM(H50:H56) -> 0 | I57: =SUM(I50:I56) -> 0 | J57: =SUM(J50:J56) -> 0 | K57: =SUM(K50:K56) -> 0 | ... M57: =SUM(M50:M56) -> 0 | N57: =SUM(D57:M57) -> 0 | O57: =O44+N57 -> 0
C58: 補助合計 | D58: =D49-D55-D56 -> 0 | E58: =E49-E55-E56 -> 0 | F58: =F49-F55-F56 -> 0 | G58: =G49-G55-G56 -> 0 | H58: =H49-H55-H56 -> 0 | I58: =I49-I55-I56 -> 0 | J58: =J49-J55-J56 -> 0 | K58: =K49-K55-K56 -> 0 | ... M58: =M49-M55-M56 -> 0 | N58: =SUM(D58:M58) -> 0 | O58: =O45+N58 -> 0
C59: 検証 | D59: =IF(D57=D49,"OK","不一致") -> OK | E59: =IF(E57=E49,"OK","不一致") -> OK | F59: =IF(F57=F49,"OK","不一致") -> OK | G59: =IF(G57=G49,"OK","不一致") -> OK | H59: =IF(H57=H49,"OK","不一致") -> OK | I59: =IF(I57=I49,"OK","不一致") -> OK | J59: =IF(J57=J49,"OK","不一致") -> OK | K59: =IF(K57=K49,"OK","不一致") -> OK | ... M59: =IF(M57=M49,"OK","不一致") -> OK
B61: 仕切り書NO. | D61: 31 | E61: 32 | F61: 33 | G61: 34 | H61: 35 | I61: 36 | J61: 37 | K61: 38 | L61: 39 | M61: 40 | N61: 31-40計 | O61: 1-40計
B62: ① | C62: 合計 | N62: =SUM(D62:M62) -> 0 | O62: =O49+N62 -> 0
B63: ② | C63: 新聞紙・チラシ(6円） | N63: =SUM(D63:M63) -> 0 | O63: =O50+N63 -> 0
C64: 古布(6円） | N64: =SUM(D64:M64) -> 0 | O64: =O51+N64 -> 0
C65: 段ボール(6円） | N65: =SUM(D65:M65) -> 0 | O65: =O52+N65 -> 0
C66: 雑誌(6円） | N66: =SUM(D66:M66) -> 0 | O66: =O53+N66 -> 0
C67: 紙パック(10円） | N67: =SUM(D67:M67) -> 0 | O67: =O54+N67 -> 0
C68: ｱﾙﾐ/ｽﾁｰﾙ | N68: =SUM(D68:M68) -> 0 | O68: =O55+N68 -> 0 | P68: 補助対象外
C69: その他 | N69: =SUM(D69:M69) -> 0 | O69: =O56+N69 -> 0 | P69: 補助対象外
B70: 自動 計算 | C70: 内訳合計 | D70: =SUM(D63:D69) -> 0 | E70: =SUM(E63:E69) -> 0 | F70: =SUM(F63:F69) -> 0 | G70: =SUM(G63:G69) -> 0 | H70: =SUM(H63:H69) -> 0 | I70: =SUM(I63:I69) -> 0 | J70: =SUM(J63:J69) -> 0 | K70: =SUM(K63:K69) -> 0 | ... M70: =SUM(M63:M69) -> 0 | N70: =SUM(D70:M70) -> 0 | O70: =O57+N70 -> 0
C71: 補助合計 | D71: =D62-D68-D69 -> 0 | E71: =E62-E68-E69 -> 0 | F71: =F62-F68-F69 -> 0 | G71: =G62-G68-G69 -> 0 | H71: =H62-H68-H69 -> 0 | I71: =I62-I68-I69 -> 0 | J71: =J62-J68-J69 -> 0 | K71: =K62-K68-K69 -> 0 | ... M71: =M62-M68-M69 -> 0 | N71: =SUM(D71:M71) -> 0 | O71: =O58+N71 -> 0
C72: 検証 | D72: =IF(D70=D62,"OK","不一致") -> OK | E72: =IF(E70=E62,"OK","不一致") -> OK | F72: =IF(F70=F62,"OK","不一致") -> OK | G72: =IF(G70=G62,"OK","不一致") -> OK | H72: =IF(H70=H62,"OK","不一致") -> OK | I72: =IF(I70=I62,"OK","不一致") -> OK | J72: =IF(J70=J62,"OK","不一致") -> OK | K72: =IF(K70=K62,"OK","不一致") -> OK | ... M72: =IF(M70=M62,"OK","不一致") -> OK
B74: 仕切り書NO. | D74: 41 | E74: 42 | F74: 43 | G74: 44 | H74: 45 | I74: 46 | J74: 47 | K74: 48 | L74: 49 | M74: 50 | N74: 41-50計 | O74: 1-50計
B75: ① | C75: 合計 | N75: =SUM(D75:M75) -> 0 | O75: =O62+N75 -> 0
B76: ② | C76: 新聞紙・チラシ(6円） | N76: =SUM(D76:M76) -> 0 | O76: =O63+N76 -> 0
C77: 古布(6円） | N77: =SUM(D77:M77) -> 0 | O77: =O64+N77 -> 0
C78: 段ボール(6円） | N78: =SUM(D78:M78) -> 0 | O78: =O65+N78 -> 0
C79: 雑誌(6円） | N79: =SUM(D79:M79) -> 0 | O79: =O66+N79 -> 0
C80: 紙パック(10円） | N80: =SUM(D80:M80) -> 0 | O80: =O67+N80 -> 0
C81: ｱﾙﾐ/ｽﾁｰﾙ | N81: =SUM(D81:M81) -> 0 | O81: =O68+N81 -> 0 | P81: 補助対象外
C82: その他 | N82: =SUM(D82:M82) -> 0 | O82: =O69+N82 -> 0 | P82: 補助対象外
B83: 自動 計算 | C83: 内訳合計 | D83: =SUM(D76:D82) -> 0 | E83: =SUM(E76:E82) -> 0 | F83: =SUM(F76:F82) -> 0 | G83: =SUM(G76:G82) -> 0 | H83: =SUM(H76:H82) -> 0 | I83: =SUM(I76:I82) -> 0 | J83: =SUM(J76:J82) -> 0 | K83: =SUM(K76:K82) -> 0 | ... M83: =SUM(M76:M82) -> 0 | N83: =SUM(D83:M83) -> 0 | O83: =O70+N83 -> 0
C84: 補助合計 | D84: =D75-D81-D82 -> 0 | E84: =E75-E81-E82 -> 0 | F84: =F75-F81-F82 -> 0 | G84: =G75-G81-G82 -> 0 | H84: =H75-H81-H82 -> 0 | I84: =I75-I81-I82 -> 0 | J84: =J75-J81-J82 -> 0 | K84: =K75-K81-K82 -> 0 | ... M84: =M75-M81-M82 -> 0 | N84: =SUM(D84:M84) -> 0 | O84: =O71+N84 -> 0
C85: 検証 | D85: =IF(D83=D75,"OK","不一致") -> OK | E85: =IF(E83=E75,"OK","不一致") -> OK | F85: =IF(F83=F75,"OK","不一致") -> OK | G85: =IF(G83=G75,"OK","不一致") -> OK | H85: =IF(H83=H75,"OK","不一致") -> OK | I85: =IF(I83=I75,"OK","不一致") -> OK | J85: =IF(J83=J75,"OK","不一致") -> OK | K85: =IF(K83=K75,"OK","不一致") -> OK | ... M85: =IF(M83=M75,"OK","不一致") -> OK
B87: 仕切り書NO. | D87: 51 | E87: 52 | F87: 53 | G87: 54 | H87: 55 | I87: 56 | J87: 57 | K87: 58 | L87: 59 | M87: 60 | N87: 51-60計 | O87: 1-60計
B88: ① | C88: 合計 | N88: =SUM(D88:M88) -> 0 | O88: =O75+N88 -> 0
B89: ② | C89: 新聞紙・チラシ(6円） | N89: =SUM(D89:M89) -> 0 | O89: =O76+N89 -> 0
C90: 古布(6円） | N90: =SUM(D90:M90) -> 0 | O90: =O77+N90 -> 0
C91: 段ボール(6円） | N91: =SUM(D91:M91) -> 0 | O91: =O78+N91 -> 0
C92: 雑誌(6円） | N92: =SUM(D92:M92) -> 0 | O92: =O79+N92 -> 0
C93: 紙パック(10円） | N93: =SUM(D93:M93) -> 0 | O93: =O80+N93 -> 0
C94: ｱﾙﾐ/ｽﾁｰﾙ | N94: =SUM(D94:M94) -> 0 | O94: =O81+N94 -> 0 | P94: 補助対象外
C95: その他 | N95: =SUM(D95:M95) -> 0 | O95: =O82+N95 -> 0 | P95: 補助対象外
B96: 自動 計算 | C96: 内訳合計 | D96: =SUM(D89:D95) -> 0 | E96: =SUM(E89:E95) -> 0 | F96: =SUM(F89:F95) -> 0 | G96: =SUM(G89:G95) -> 0 | H96: =SUM(H89:H95) -> 0 | I96: =SUM(I89:I95) -> 0 | J96: =SUM(J89:J95) -> 0 | K96: =SUM(K89:K95) -> 0 | ... M96: =SUM(M89:M95) -> 0 | N96: =SUM(D96:M96) -> 0 | O96: =O83+N96 -> 0
C97: 補助合計 | D97: =D88-D94-D95 -> 0 | E97: =E88-E94-E95 -> 0 | F97: =F88-F94-F95 -> 0 | G97: =G88-G94-G95 -> 0 | H97: =H88-H94-H95 -> 0 | I97: =I88-I94-I95 -> 0 | J97: =J88-J94-J95 -> 0 | K97: =K88-K94-K95 -> 0 | ... M97: =M88-M94-M95 -> 0 | N97: =SUM(D97:M97) -> 0 | O97: =O84+N97 -> 0
C98: 検証 | D98: =IF(D96=D88,"OK","不一致") -> OK | E98: =IF(E96=E88,"OK","不一致") -> OK | F98: =IF(F96=F88,"OK","不一致") -> OK | G98: =IF(G96=G88,"OK","不一致") -> OK | H98: =IF(H96=H88,"OK","不一致") -> OK | I98: =IF(I96=I88,"OK","不一致") -> OK | J98: =IF(J96=J88,"OK","不一致") -> OK | K98: =IF(K96=K88,"OK","不一致") -> OK | ... M98: =IF(M96=M88,"OK","不一致") -> OK
B100: 仕切り書NO. | D100: 61 | E100: 62 | F100: 63 | G100: 64 | H100: 65 | I100: 66 | J100: 67 | K100: 68 | L100: 69 | M100: 70 | N100: 61-70計 | O100: 1-70計
B101: ① | C101: 合計 | N101: =SUM(D101:M101) -> 0 | O101: =O88+N101 -> 0
B102: ② | C102: 新聞紙・チラシ(6円） | N102: =SUM(D102:M102) -> 0 | O102: =O89+N102 -> 0
C103: 古布(6円） | N103: =SUM(D103:M103) -> 0 | O103: =O90+N103 -> 0
C104: 段ボール(6円） | N104: =SUM(D104:M104) -> 0 | O104: =O91+N104 -> 0
C105: 雑誌(6円） | N105: =SUM(D105:M105) -> 0 | O105: =O92+N105 -> 0
C106: 紙パック(10円） | N106: =SUM(D106:M106) -> 0 | O106: =O93+N106 -> 0
C107: ｱﾙﾐ/ｽﾁｰﾙ | N107: =SUM(D107:M107) -> 0 | O107: =O94+N107 -> 0 | P107: 補助対象外
C108: その他 | N108: =SUM(D108:M108) -> 0 | O108: =O95+N108 -> 0 | P108: 補助対象外
B109: 自動 計算 | C109: 内訳合計 | D109: =SUM(D102:D108) -> 0 | E109: =SUM(E102:E108) -> 0 | F109: =SUM(F102:F108) -> 0 | G109: =SUM(G102:G108) -> 0 | H109: =SUM(H102:H108) -> 0 | I109: =SUM(I102:I108) -> 0 | J109: =SUM(J102:J108) -> 0 | K109: =SUM(K102:K108) -> 0 | ... M109: =SUM(M102:M108) -> 0 | N109: =SUM(D109:M109) -> 0 | O109: =O96+N109 -> 0
C110: 補助合計 | D110: =D101-D107-D108 -> 0 | E110: =E101-E107-E108 -> 0 | F110: =F101-F107-F108 -> 0 | G110: =G101-G107-G108 -> 0 | H110: =H101-H107-H108 -> 0 | I110: =I101-I107-I108 -> 0 | J110: =J101-J107-J108 -> 0 | K110: =K101-K107-K108 -> 0 | ... M110: =M101-M107-M108 -> 0 | N110: =SUM(D110:M110) -> 0 | O110: =O97+N110 -> 0
C111: 検証 | D111: =IF(D109=D101,"OK","不一致") -> OK | E111: =IF(E109=E101,"OK","不一致") -> OK | F111: =IF(F109=F101,"OK","不一致") -> OK | G111: =IF(G109=G101,"OK","不一致") -> OK | H111: =IF(H109=H101,"OK","不一致") -> OK | I111: =IF(I109=I101,"OK","不一致") -> OK | J111: =IF(J109=J101,"OK","不一致") -> OK | K111: =IF(K109=K101,"OK","不一致") -> OK | ... M111: =IF(M109=M101,"OK","不一致") -> OK
B113: 仕切り書NO. | D113: 71 | E113: 72 | F113: 73 | G113: 74 | H113: 75 | I113: 76 | J113: 77 | K113: 78 | L113: 79 | M113: 80 | N113: 71-80計 | O113: 1-80計
B114: ① | C114: 合計 | N114: =SUM(D114:M114) -> 0 | O114: =O101+N114 -> 0
B115: ② | C115: 新聞紙・チラシ(6円） | N115: =SUM(D115:M115) -> 0 | O115: =O102+N115 -> 0
C116: 古布(6円） | N116: =SUM(D116:M116) -> 0 | O116: =O103+N116 -> 0
C117: 段ボール(6円） | N117: =SUM(D117:M117) -> 0 | O117: =O104+N117 -> 0
C118: 雑誌(6円） | N118: =SUM(D118:M118) -> 0 | O118: =O105+N118 -> 0
C119: 紙パック(10円） | N119: =SUM(D119:M119) -> 0 | O119: =O106+N119 -> 0
C120: ｱﾙﾐ/ｽﾁｰﾙ | N120: =SUM(D120:M120) -> 0 | O120: =O107+N120 -> 0 | P120: 補助対象外
C121: その他 | N121: =SUM(D121:M121) -> 0 | O121: =O108+N121 -> 0 | P121: 補助対象外
B122: 自動 計算 | C122: 内訳合計 | D122: =SUM(D115:D121) -> 0 | E122: =SUM(E115:E121) -> 0 | F122: =SUM(F115:F121) -> 0 | G122: =SUM(G115:G121) -> 0 | H122: =SUM(H115:H121) -> 0 | I122: =SUM(I115:I121) -> 0 | J122: =SUM(J115:J121) -> 0 | K122: =SUM(K115:K121) -> 0 | ... M122: =SUM(M115:M121) -> 0 | N122: =SUM(D122:M122) -> 0 | O122: =O109+N122 -> 0
C123: 補助合計 | D123: =D114-D120-D121 -> 0 | E123: =E114-E120-E121 -> 0 | F123: =F114-F120-F121 -> 0 | G123: =G114-G120-G121 -> 0 | H123: =H114-H120-H121 -> 0 | I123: =I114-I120-I121 -> 0 | J123: =J114-J120-J121 -> 0 | K123: =K114-K120-K121 -> 0 | ... M123: =M114-M120-M121 -> 0 | N123: =SUM(D123:M123) -> 0 | O123: =O110+N123 -> 0
C124: 検証 | D124: =IF(D122=D114,"OK","不一致") -> OK | E124: =IF(E122=E114,"OK","不一致") -> OK | F124: =IF(F122=F114,"OK","不一致") -> OK | G124: =IF(G122=G114,"OK","不一致") -> OK | H124: =IF(H122=H114,"OK","不一致") -> OK | I124: =IF(I122=I114,"OK","不一致") -> OK | J124: =IF(J122=J114,"OK","不一致") -> OK | K124: =IF(K122=K114,"OK","不一致") -> OK | ... M124: =IF(M122=M114,"OK","不一致") -> OK
B126: 仕切り書NO. | D126: 81 | E126: 82 | F126: 83 | G126: 84 | H126: 85 | I126: 86 | J126: 87 | K126: 88 | L126: 89 | M126: 90 | N126: 81-90計 | O126: 81-90計
B127: ① | C127: 合計 | N127: =SUM(D127:M127) -> 0 | O127: =O114+N127 -> 0
...
